{
 "currentVersion": 11.5,
 "serviceDescription": "OSIPI_DEM",
 "serviceItemId": "8a0f4b466a124297ba05cabe282e34d5",
 "name": "OSIPI_DEM",
 "description": "",
 "extent": {
  "xmin": 1310000,
  "ymin": 145000,
  "xmax": 2520507.5,
  "ymax": 1462300,
  "spatialReference": {
   "wkid": 3754,
   "latestWkid": 3754
  }
 },
 "initialExtent": {
  "xmin": 1310000,
  "ymin": 145000,
  "xmax": 2520507.5,
  "ymax": 1462300,
  "spatialReference": {
   "wkid": 3754,
   "latestWkid": 3754
  }
 },
 "fullExtent": {
  "xmin": 1310000,
  "ymin": 145000,
  "xmax": 2520507.5,
  "ymax": 1462300,
  "spatialReference": {
   "wkid": 3754,
   "latestWkid": 3754
  }
 },
 "sortableFields": "",
 "bandCount": 1,
 "pixelType": "F32",
 "minValues": [
  -520.0599975585938
 ],
 "maxValues": [
  2231.949951171875
 ],
 "meanValues": [
  918.2616172755887
 ],
 "stdvValues": [
  173.29354113999108
 ],
 "serviceProperties": "Center<\/MosaicMethod>First<\/MosaicOperator>true<\/SortAscending><\/LockImageID><\/TileOrderField>0<\/TileOrderBase>0.000000<\/AvgImageSpacingX>0.000000<\/AvgImageSpacingY>0.0<\/ViewPointX>0.0<\/ViewPointY>0.0<\/ViewPointDefShiftX>0.0<\/ViewPointDefShiftY>None<\/CompressionMethod>75<\/CompressionQuality>0.010000<\/CompressionTolerance>Bilinear<\/SamplingMethod><\/ImageServiceProperties><\/ImageServer>",
 "allowedFields": "",
 "hasMultidimensions": false,
 "pixelSizeX": 2.5,
 "pixelSizeY": 2.5,
 "meanPixelSize": 0.7620015240030481,
 "datasetFormat": "FGDBR",
 "uncompressedSize": 1020544979040,
 "blockWidth": 128,
 "blockHeight": 128,
 "compressionType": "LZ77",
 "bandNames": [
  "Band_1"
 ],
 "allowCopy": true,
 "allowAnalysis": true,
 "itemAccess": false,
 "inspectionCapabilities": "",
 "minPixelSize": 0,
 "maxPixelSize": 0,
 "copyrightText": "",
 "serviceDataType": "esriImageServiceDataTypeGeneric",
 "serviceSourceType": "esriImageServiceSourceTypeDataset",
 "objectIdField": "",
 "fields": [],
 "capabilities": "Mensuration,Image,Metadata",
 "defaultMosaicMethod": "Center",
 "allowedMosaicMethods": "",
 "sortField": "",
 "sortValue": null,
 "sortAscending": true,
 "mosaicOperator": "First",
 "defaultCompressionQuality": 75,
 "defaultResamplingMethod": "Bilinear",
 "maxImageHeight": 4100,
 "maxImageWidth": 15000,
 "allowRasterFunction": true,
 "rasterFunctionInfos": [
  {
   "name": "None",
   "description": "",
   "help": ""
  }
 ],
 "rasterTypeInfos": [
  {
   "name": "Raster Dataset",
   "description": "Supports all ArcGIS Raster Datasets",
   "help": ""
  }
 ],
 "mensurationCapabilities": "Basic",
 "hasHistograms": true,
 "hasColormap": false,
 "hasRasterAttributeTable": false,
 "minScale": 0,
 "maxScale": 0,
 "exportTilesAllowed": false,
 "supportsStatistics": false,
 "supportsAdvancedQueries": false,
 "editFieldsInfo": null,
 "ownershipBasedAccessControlForRasters": null,
 "allowComputeTiePoints": false,
 "useStandardizedQueries": true,
 "advancedQueryCapabilities": {
  "useStandardizedQueries": true,
  "supportsStatistics": false,
  "supportsOrderBy": false,
  "supportsDistinct": false,
  "supportsPagination": false
 },
 "spatialReference": {
  "wkid": 3754,
  "latestWkid": 3754
 },
 "resampling": false
}
